Package: exomeCopy Version: 1.48.0 Command: rm -rf exomeCopy.buildbin-libdir && mkdir exomeCopy.buildbin-libdir && /Users/biocbuild/BBS/utils/build-universal.sh exomeCopy_1.48.0.tar.gz /Library/Frameworks/R.framework/Resources/bin/R exomeCopy.buildbin-libdir StartedAt: 2024-04-16 11:39:39 -0400 (Tue, 16 Apr 2024) EndedAt: 2024-04-16 11:40:30 -0400 (Tue, 16 Apr 2024) EllapsedTime: 51.3 seconds RetCode: 0 Status: OK PackageFile: exomeCopy_1.48.0.tgz PackageFileSize: 932.8 KiB