Package: eudysbiome Version: 1.32.0 Command: /Library/Frameworks/R.framework/Resources/bin/R CMD INSTALL eudysbiome StartedAt: 2024-04-15 15:32:35 -0400 (Mon, 15 Apr 2024) EndedAt: 2024-04-15 15:33:02 -0400 (Mon, 15 Apr 2024) EllapsedTime: 27.1 seconds RetCode: 0 Status: OK