Package: esetVis Version: 1.28.2 Command: /home/biocbuild/bbs-3.18-bioc/R/bin/R CMD check --install=check:esetVis.install-out.txt --library=/home/biocbuild/bbs-3.18-bioc/R/site-library --timings esetVis_1.28.2.tar.gz StartedAt: 2024-04-15 22:37:46 -0400 (Mon, 15 Apr 2024) EndedAt: 2024-04-15 22:42:54 -0400 (Mon, 15 Apr 2024) EllapsedTime: 307.6 seconds RetCode: 0 Status: OK CheckDir: esetVis.Rcheck Warnings: 0