Package: esetVis Version: 1.28.0 Command: /home/biocbuild/R/R-4.3.1/bin/R CMD check --install=check:esetVis.install-out.txt --library=/home/biocbuild/R/R-4.3.1/site-library --no-vignettes --timings esetVis_1.28.0.tar.gz StartedAt: 2023-11-02 10:22:20 -0000 (Thu, 02 Nov 2023) EndedAt: 2023-11-02 10:26:39 -0000 (Thu, 02 Nov 2023) EllapsedTime: 258.7 seconds RetCode: 1 Status: ERROR CheckDir: esetVis.Rcheck Warnings: NA