Package: esetVis Version: 1.28.0 Command: /home/biocbuild/R/R-4.3.1/bin/R CMD build --keep-empty-dirs --no-resave-data esetVis StartedAt: 2023-11-02 00:56:09 -0000 (Thu, 02 Nov 2023) EndedAt: 2023-11-02 00:59:53 -0000 (Thu, 02 Nov 2023) EllapsedTime: 224.3 seconds RetCode: 0 Status: OK PackageFile: esetVis_1.28.0.tar.gz PackageFileSize: 2.366 MiB