Package: escheR Version: 1.2.0 Command: /home/biocbuild/bbs-3.18-bioc/R/bin/R CMD INSTALL escheR StartedAt: 2024-04-15 15:42:32 -0400 (Mon, 15 Apr 2024) EndedAt: 2024-04-15 15:42:59 -0400 (Mon, 15 Apr 2024) EllapsedTime: 26.6 seconds RetCode: 0 Status: OK