Package: escheR Version: 1.2.0 Command: /home/biocbuild/bbs-3.18-bioc/R/bin/R CMD check --install=check:escheR.install-out.txt --library=/home/biocbuild/bbs-3.18-bioc/R/site-library --timings escheR_1.2.0.tar.gz StartedAt: 2024-04-15 22:36:59 -0400 (Mon, 15 Apr 2024) EndedAt: 2024-04-15 22:45:16 -0400 (Mon, 15 Apr 2024) EllapsedTime: 496.9 seconds RetCode: 0 Status: OK CheckDir: escheR.Rcheck Warnings: 0