Package: escape Version: 1.12.0 Command: /Library/Frameworks/R.framework/Resources/bin/R CMD build --keep-empty-dirs --no-resave-data escape StartedAt: 2024-03-03 16:40:32 -0500 (Sun, 03 Mar 2024) EndedAt: 2024-03-03 16:42:25 -0500 (Sun, 03 Mar 2024) EllapsedTime: 113.1 seconds RetCode: 0 Status: OK PackageFile: escape_1.12.0.tar.gz PackageFileSize: 1.446 MiB