Package: esATAC Version: 1.24.0 Command: /home/biocbuild/bbs-3.18-bioc/R/bin/R CMD check --install=check:esATAC.install-out.txt --library=/home/biocbuild/bbs-3.18-bioc/R/site-library --timings esATAC_1.24.0.tar.gz StartedAt: 2024-04-15 22:36:28 -0400 (Mon, 15 Apr 2024) EndedAt: 2024-04-15 22:44:08 -0400 (Mon, 15 Apr 2024) EllapsedTime: 459.6 seconds RetCode: 0 Status: OK CheckDir: esATAC.Rcheck Warnings: 0