Package: esATAC Version: 1.24.0 Command: /Library/Frameworks/R.framework/Resources/bin/R CMD INSTALL esATAC StartedAt: 2024-03-03 15:34:28 -0500 (Sun, 03 Mar 2024) EndedAt: 2024-03-03 15:36:44 -0500 (Sun, 03 Mar 2024) EllapsedTime: 136.9 seconds RetCode: 0 Status: OK