Package: esATAC Version: 1.24.0 Command: /Library/Frameworks/R.framework/Resources/bin/R CMD check --install=check:esATAC.install-out.txt --library=/Library/Frameworks/R.framework/Resources/library --no-vignettes --timings esATAC_1.24.0.tar.gz StartedAt: 2024-03-03 20:29:48 -0500 (Sun, 03 Mar 2024) EndedAt: 2024-03-03 20:40:26 -0500 (Sun, 03 Mar 2024) EllapsedTime: 637.4 seconds RetCode: 0 Status: OK CheckDir: esATAC.Rcheck Warnings: 0