Package: esATAC Version: 1.24.0 Command: rm -rf esATAC.buildbin-libdir && mkdir esATAC.buildbin-libdir && /Users/biocbuild/BBS/utils/build-universal.sh esATAC_1.24.0.tar.gz /Library/Frameworks/R.framework/Resources/bin/R esATAC.buildbin-libdir StartedAt: 2024-03-04 00:40:24 -0500 (Mon, 04 Mar 2024) EndedAt: 2024-03-04 00:42:48 -0500 (Mon, 04 Mar 2024) EllapsedTime: 143.8 seconds RetCode: 0 Status: OK PackageFile: esATAC_1.24.0.tgz PackageFileSize: 8.16 MiB