Package: erma Version: 1.18.0 Command: F:\biocbuild\bbs-3.18-bioc\R\bin\R.exe CMD INSTALL erma StartedAt: 2024-04-15 16:10:30 -0400 (Mon, 15 Apr 2024) EndedAt: 2024-04-15 16:11:39 -0400 (Mon, 15 Apr 2024) EllapsedTime: 68.2 seconds RetCode: 0 Status: OK