Package: erma Version: 1.18.0 Command: /Library/Frameworks/R.framework/Resources/bin/R CMD INSTALL erma StartedAt: 2024-04-15 16:00:10 -0400 (Mon, 15 Apr 2024) EndedAt: 2024-04-15 16:01:56 -0400 (Mon, 15 Apr 2024) EllapsedTime: 105.8 seconds RetCode: 0 Status: OK