Package: erma Version: 1.18.0 Command: /Library/Frameworks/R.framework/Resources/bin/R CMD check --install=check:erma.install-out.txt --library=/Library/Frameworks/R.framework/Resources/library --no-vignettes --timings erma_1.18.0.tar.gz StartedAt: 2024-04-16 02:36:11 -0400 (Tue, 16 Apr 2024) EndedAt: 2024-04-16 02:48:02 -0400 (Tue, 16 Apr 2024) EllapsedTime: 711.1 seconds RetCode: 0 Status: OK CheckDir: erma.Rcheck Warnings: 0