Package: erma Version: 1.18.0 Command: /Library/Frameworks/R.framework/Resources/bin/R CMD INSTALL erma StartedAt: 2024-03-03 15:24:09 -0500 (Sun, 03 Mar 2024) EndedAt: 2024-03-03 15:25:19 -0500 (Sun, 03 Mar 2024) EllapsedTime: 70.0 seconds RetCode: 0 Status: OK