Package: erccdashboard Version: 1.36.0 Command: chmod a+r erccdashboard -R && F:\biocbuild\bbs-3.18-bioc\R\bin\R.exe CMD build --keep-empty-dirs --no-resave-data erccdashboard StartedAt: 2024-04-15 18:20:02 -0400 (Mon, 15 Apr 2024) EndedAt: 2024-04-15 18:26:14 -0400 (Mon, 15 Apr 2024) EllapsedTime: 372.2 seconds RetCode: 0 Status: OK PackageFile: erccdashboard_1.36.0.tar.gz PackageFileSize: 1.507 MiB