Package: erccdashboard Version: 1.36.0 Command: /Library/Frameworks/R.framework/Resources/bin/R CMD build --keep-empty-dirs --no-resave-data erccdashboard StartedAt: 2024-04-15 18:34:41 -0400 (Mon, 15 Apr 2024) EndedAt: 2024-04-15 18:36:43 -0400 (Mon, 15 Apr 2024) EllapsedTime: 122.1 seconds RetCode: 0 Status: OK PackageFile: erccdashboard_1.36.0.tar.gz PackageFileSize: 1.882 MiB