Package: erccdashboard Version: 1.36.0 Command: rm -rf erccdashboard.buildbin-libdir && mkdir erccdashboard.buildbin-libdir && /Users/biocbuild/BBS/utils/build-universal.sh erccdashboard_1.36.0.tar.gz /Library/Frameworks/R.framework/Resources/bin/R erccdashboard.buildbin-libdir StartedAt: 2024-03-04 00:40:11 -0500 (Mon, 04 Mar 2024) EndedAt: 2024-03-04 00:40:24 -0500 (Mon, 04 Mar 2024) EllapsedTime: 13.4 seconds RetCode: 0 Status: OK PackageFile: erccdashboard_1.36.0.tgz PackageFileSize: 2.519 MiB