Package: erccdashboard Version: 1.36.0 Command: /home/biocbuild/R/R-4.3.1/bin/R CMD INSTALL erccdashboard StartedAt: 2023-11-01 20:15:52 -0000 (Wed, 01 Nov 2023) EndedAt: 2023-11-01 20:16:05 -0000 (Wed, 01 Nov 2023) EllapsedTime: 12.7 seconds RetCode: 0 Status: OK