Package: erccdashboard Version: 1.36.0 Command: /home/biocbuild/R/R-4.3.1/bin/R CMD build --keep-empty-dirs --no-resave-data erccdashboard StartedAt: 2023-11-02 00:54:59 -0000 (Thu, 02 Nov 2023) EndedAt: 2023-11-02 00:56:09 -0000 (Thu, 02 Nov 2023) EllapsedTime: 70.1 seconds RetCode: 0 Status: OK PackageFile: erccdashboard_1.36.0.tar.gz PackageFileSize: 1.893 MiB