Package: epivizrChart Version: 1.24.0 Command: rm -rf epivizrChart.buildbin-libdir && mkdir epivizrChart.buildbin-libdir && /Users/biocbuild/BBS/utils/build-universal.sh epivizrChart_1.24.0.tar.gz /Library/Frameworks/R.framework/Resources/bin/R epivizrChart.buildbin-libdir StartedAt: 2024-04-16 11:37:39 -0400 (Tue, 16 Apr 2024) EndedAt: 2024-04-16 11:40:29 -0400 (Tue, 16 Apr 2024) EllapsedTime: 169.8 seconds RetCode: 0 Status: OK PackageFile: epivizrChart_1.24.0.tgz PackageFileSize: 6.421 MiB