Package: epivizr Version: 2.32.0 Command: /home/biocbuild/bbs-3.18-bioc/R/bin/R CMD check --install=check:epivizr.install-out.txt --library=/home/biocbuild/bbs-3.18-bioc/R/site-library --timings epivizr_2.32.0.tar.gz StartedAt: 2024-04-15 22:33:30 -0400 (Mon, 15 Apr 2024) EndedAt: 2024-04-15 22:39:27 -0400 (Mon, 15 Apr 2024) EllapsedTime: 356.8 seconds RetCode: 0 Status: OK CheckDir: epivizr.Rcheck Warnings: 0