Package: epivizr Version: 2.32.0 Command: /home/biocbuild/bbs-3.18-bioc/R/bin/R CMD build --keep-empty-dirs --no-resave-data epivizr StartedAt: 2024-04-15 17:00:07 -0400 (Mon, 15 Apr 2024) EndedAt: 2024-04-15 17:01:18 -0400 (Mon, 15 Apr 2024) EllapsedTime: 71.2 seconds RetCode: 0 Status: OK PackageFile: epivizr_2.32.0.tar.gz PackageFileSize: 1.151 MiB