Package: epivizr Version: 2.32.0 Command: rm -rf epivizr.buildbin-libdir && mkdir epivizr.buildbin-libdir && /Users/biocbuild/BBS/utils/build-universal.sh epivizr_2.32.0.tar.gz /Library/Frameworks/R.framework/Resources/bin/R epivizr.buildbin-libdir StartedAt: 2024-04-16 11:37:21 -0400 (Tue, 16 Apr 2024) EndedAt: 2024-04-16 11:40:00 -0400 (Tue, 16 Apr 2024) EllapsedTime: 158.9 seconds RetCode: 0 Status: OK PackageFile: epivizr_2.32.0.tgz PackageFileSize: 1.985 MiB