Package: epivizr Version: 2.32.0 Command: /Library/Frameworks/R.framework/Resources/bin/R CMD build --keep-empty-dirs --no-resave-data epivizr StartedAt: 2024-03-03 16:39:15 -0500 (Sun, 03 Mar 2024) EndedAt: 2024-03-03 16:40:39 -0500 (Sun, 03 Mar 2024) EllapsedTime: 83.7 seconds RetCode: 0 Status: OK PackageFile: epivizr_2.32.0.tar.gz PackageFileSize: 1.152 MiB