Package: epivizr Version: 2.32.0 Command: /home/biocbuild/R/R-4.3.1/bin/R CMD build --keep-empty-dirs --no-resave-data epivizr StartedAt: 2023-11-02 00:52:12 -0000 (Thu, 02 Nov 2023) EndedAt: 2023-11-02 00:53:43 -0000 (Thu, 02 Nov 2023) EllapsedTime: 91.1 seconds RetCode: 0 Status: OK PackageFile: epivizr_2.32.0.tar.gz PackageFileSize: 1.216 MiB