Package: epistasisGA Version: 1.4.0 Command: F:\biocbuild\bbs-3.18-bioc\R\bin\R.exe CMD INSTALL epistasisGA StartedAt: 2024-04-15 16:21:44 -0400 (Mon, 15 Apr 2024) EndedAt: 2024-04-15 16:22:47 -0400 (Mon, 15 Apr 2024) EllapsedTime: 63.1 seconds RetCode: 0 Status: OK