Package: epistasisGA Version: 1.4.0 Command: chmod a+r epistasisGA -R && F:\biocbuild\bbs-3.18-bioc\R\bin\R.exe CMD build --keep-empty-dirs --no-resave-data epistasisGA StartedAt: 2024-04-15 18:17:06 -0400 (Mon, 15 Apr 2024) EndedAt: 2024-04-15 18:22:58 -0400 (Mon, 15 Apr 2024) EllapsedTime: 351.6 seconds RetCode: 0 Status: OK PackageFile: epistasisGA_1.4.0.tar.gz PackageFileSize: 1.346 MiB