Package: epistasisGA Version: 1.4.0 Command: rm -rf epistasisGA.buildbin-libdir && mkdir epistasisGA.buildbin-libdir && /Users/biocbuild/BBS/utils/build-universal.sh epistasisGA_1.4.0.tar.gz /Library/Frameworks/R.framework/Resources/bin/R epistasisGA.buildbin-libdir StartedAt: 2024-03-04 00:40:06 -0500 (Mon, 04 Mar 2024) EndedAt: 2024-03-04 00:41:03 -0500 (Mon, 04 Mar 2024) EllapsedTime: 56.2 seconds RetCode: 0 Status: OK PackageFile: epistasisGA_1.4.0.tgz PackageFileSize: 2.317 MiB