Package: epistasisGA Version: 1.4.0 Maintainer: Michael Nodzenski MaintainerEmail: michael.nodzenski at gmail.com git_url: https://git.bioconductor.org/packages/epistasisGA git_branch: RELEASE_3_18 git_last_commit: a4f5fdc git_last_commit_date: 2023-10-24 11:44:31 -0400 (Tue, 24 Oct 2023)