Package: epigraHMM Version: 1.10.0 Command: /Library/Frameworks/R.framework/Resources/bin/R CMD check --install=check:epigraHMM.install-out.txt --library=/Library/Frameworks/R.framework/Resources/library --no-vignettes --timings epigraHMM_1.10.0.tar.gz StartedAt: 2024-03-03 20:26:21 -0500 (Sun, 03 Mar 2024) EndedAt: 2024-03-03 20:35:16 -0500 (Sun, 03 Mar 2024) EllapsedTime: 535.4 seconds RetCode: 0 Status: WARNINGS CheckDir: epigraHMM.Rcheck Warnings: 1