Package: epigenomix Version: 1.42.0 Command: /Library/Frameworks/R.framework/Resources/bin/R CMD check --install=check:epigenomix.install-out.txt --library=/Library/Frameworks/R.framework/Resources/library --no-vignettes --timings epigenomix_1.42.0.tar.gz StartedAt: 2024-03-03 20:26:12 -0500 (Sun, 03 Mar 2024) EndedAt: 2024-03-03 20:31:30 -0500 (Sun, 03 Mar 2024) EllapsedTime: 318.5 seconds RetCode: 0 Status: OK CheckDir: epigenomix.Rcheck Warnings: 0