Package: epigenomix Version: 1.42.0 Command: /Library/Frameworks/R.framework/Resources/bin/R CMD build --keep-empty-dirs --no-resave-data epigenomix StartedAt: 2024-03-03 16:38:35 -0500 (Sun, 03 Mar 2024) EndedAt: 2024-03-03 16:40:13 -0500 (Sun, 03 Mar 2024) EllapsedTime: 98.1 seconds RetCode: 0 Status: OK PackageFile: epigenomix_1.42.0.tar.gz PackageFileSize: 426.6 KiB