Package: epidecodeR Version: 1.10.0 Command: /home/biocbuild/R/R-4.3.1/bin/R CMD INSTALL epidecodeR StartedAt: 2023-11-01 20:59:49 -0000 (Wed, 01 Nov 2023) EndedAt: 2023-11-01 21:00:35 -0000 (Wed, 01 Nov 2023) EllapsedTime: 46.3 seconds RetCode: 0 Status: OK