Package: ensembldb Version: 2.26.1 Command: /home/biocbuild/bbs-3.18-bioc/R/bin/R CMD check --install=check:ensembldb.install-out.txt --library=/home/biocbuild/bbs-3.18-bioc/R/site-library --timings ensembldb_2.26.1.tar.gz StartedAt: 2024-04-15 22:27:48 -0400 (Mon, 15 Apr 2024) EndedAt: 2024-04-15 22:39:29 -0400 (Mon, 15 Apr 2024) EllapsedTime: 701.9 seconds RetCode: 1 Status: ERROR CheckDir: ensembldb.Rcheck Warnings: NA