Package: ensembldb Version: 2.26.1 Command: /Library/Frameworks/R.framework/Resources/bin/R CMD INSTALL ensembldb StartedAt: 2024-04-15 15:45:47 -0400 (Mon, 15 Apr 2024) EndedAt: 2024-04-15 15:47:20 -0400 (Mon, 15 Apr 2024) EllapsedTime: 92.6 seconds RetCode: 0 Status: OK