Package: ensembldb Version: 2.26.0 Command: /Library/Frameworks/R.framework/Resources/bin/R CMD check --install=check:ensembldb.install-out.txt --library=/Library/Frameworks/R.framework/Resources/library --no-vignettes --timings ensembldb_2.26.0.tar.gz StartedAt: 2024-03-03 20:25:09 -0500 (Sun, 03 Mar 2024) EndedAt: 2024-03-03 20:35:31 -0500 (Sun, 03 Mar 2024) EllapsedTime: 621.4 seconds RetCode: 0 Status: OK CheckDir: ensembldb.Rcheck Warnings: 0