Package: ensemblVEP Version: 1.44.0 Command: /Library/Frameworks/R.framework/Resources/bin/R CMD check --install=check:ensemblVEP.install-out.txt --library=/Library/Frameworks/R.framework/Resources/library --no-vignettes --timings ensemblVEP_1.44.0.tar.gz StartedAt: 2023-11-28 20:18:54 -0500 (Tue, 28 Nov 2023) EndedAt: 2023-11-28 20:25:18 -0500 (Tue, 28 Nov 2023) EllapsedTime: 383.4 seconds RetCode: 0 Status: OK CheckDir: ensemblVEP.Rcheck Warnings: 0