Package: ensemblVEP Version: 1.44.0 Command: rm -rf ensemblVEP.buildbin-libdir && mkdir ensemblVEP.buildbin-libdir && /Users/biocbuild/BBS/utils/build-universal.sh ensemblVEP_1.44.0.tar.gz /Library/Frameworks/R.framework/Resources/bin/R ensemblVEP.buildbin-libdir StartedAt: 2023-11-29 00:16:08 -0500 (Wed, 29 Nov 2023) EndedAt: 2023-11-29 00:17:10 -0500 (Wed, 29 Nov 2023) EllapsedTime: 61.9 seconds RetCode: 0 Status: OK PackageFile: ensemblVEP_1.44.0.tgz PackageFileSize: 516.1 KiB