Package: ensemblVEP Version: 1.44.0 Command: /home/biocbuild/R/R-4.3.1/bin/R CMD build --keep-empty-dirs --no-resave-data ensemblVEP StartedAt: 2023-11-02 00:43:37 -0000 (Thu, 02 Nov 2023) EndedAt: 2023-11-02 00:46:50 -0000 (Thu, 02 Nov 2023) EllapsedTime: 193.2 seconds RetCode: 0 Status: OK PackageFile: ensemblVEP_1.44.0.tar.gz PackageFileSize: 124.6 KiB