Package: enhancerHomologSearch Version: 1.8.3 Command: chmod a+r enhancerHomologSearch -R && F:\biocbuild\bbs-3.18-bioc\R\bin\R.exe CMD build --keep-empty-dirs --no-resave-data enhancerHomologSearch StartedAt: 2024-04-15 18:11:43 -0400 (Mon, 15 Apr 2024) EndedAt: 2024-04-15 18:38:22 -0400 (Mon, 15 Apr 2024) EllapsedTime: 1599.4 seconds RetCode: 0 Status: OK PackageFile: enhancerHomologSearch_1.8.3.tar.gz PackageFileSize: 1.043 MiB