Package: enhancerHomologSearch Version: 1.8.3 Command: rm -rf enhancerHomologSearch.buildbin-libdir && mkdir enhancerHomologSearch.buildbin-libdir && F:\biocbuild\bbs-3.18-bioc\R\bin\R.exe CMD INSTALL --build --library=enhancerHomologSearch.buildbin-libdir enhancerHomologSearch_1.8.3.tar.gz StartedAt: 2024-04-16 06:58:08 -0400 (Tue, 16 Apr 2024) EndedAt: 2024-04-16 07:07:39 -0400 (Tue, 16 Apr 2024) EllapsedTime: 570.4 seconds RetCode: 0 Status: OK PackageFile: enhancerHomologSearch_1.8.3.zip PackageFileSize: 2.198 MiB