Package: enhancerHomologSearch Version: 1.8.3 Command: /Library/Frameworks/R.framework/Resources/bin/R CMD INSTALL enhancerHomologSearch StartedAt: 2024-04-15 15:40:40 -0400 (Mon, 15 Apr 2024) EndedAt: 2024-04-15 15:54:37 -0400 (Mon, 15 Apr 2024) EllapsedTime: 837.4 seconds RetCode: 0 Status: OK