Package: edgeR Version: 4.0.16 Command: /home/biocbuild/bbs-3.18-bioc/R/bin/R CMD INSTALL edgeR StartedAt: 2024-04-15 15:09:47 -0400 (Mon, 15 Apr 2024) EndedAt: 2024-04-15 15:11:22 -0400 (Mon, 15 Apr 2024) EllapsedTime: 95.1 seconds RetCode: 0 Status: OK