Package: edgeR Version: 4.0.16 Command: /Library/Frameworks/R.framework/Resources/bin/R CMD check --install=check:edgeR.install-out.txt --library=/Library/Frameworks/R.framework/Resources/library --no-vignettes --timings edgeR_4.0.16.tar.gz StartedAt: 2024-04-16 02:21:34 -0400 (Tue, 16 Apr 2024) EndedAt: 2024-04-16 02:24:49 -0400 (Tue, 16 Apr 2024) EllapsedTime: 194.9 seconds RetCode: 0 Status: OK CheckDir: edgeR.Rcheck Warnings: 0