Package: edgeR Version: 4.0.16 Command: /Library/Frameworks/R.framework/Resources/bin/R CMD check --install=check:edgeR.install-out.txt --library=/Library/Frameworks/R.framework/Resources/library --no-vignettes --timings edgeR_4.0.16.tar.gz StartedAt: 2024-03-03 20:22:51 -0500 (Sun, 03 Mar 2024) EndedAt: 2024-03-03 20:24:38 -0500 (Sun, 03 Mar 2024) EllapsedTime: 106.9 seconds RetCode: 0 Status: OK CheckDir: edgeR.Rcheck Warnings: 0