Package: edgeR Version: 4.0.1 Command: /home/biocbuild/R/R-4.3.1/bin/R CMD build --keep-empty-dirs --no-resave-data edgeR StartedAt: 2023-11-02 00:35:27 -0000 (Thu, 02 Nov 2023) EndedAt: 2023-11-02 00:38:22 -0000 (Thu, 02 Nov 2023) EllapsedTime: 174.2 seconds RetCode: 0 Status: OK PackageFile: edgeR_4.0.1.tar.gz PackageFileSize: 3.428 MiB