Package: easylift Version: 1.0.0 Command: /home/biocbuild/bbs-3.18-bioc/R/bin/R CMD INSTALL easylift StartedAt: 2024-04-15 15:18:58 -0400 (Mon, 15 Apr 2024) EndedAt: 2024-04-15 15:19:30 -0400 (Mon, 15 Apr 2024) EllapsedTime: 32.1 seconds RetCode: 0 Status: OK