Package: easylift Version: 1.0.0 Command: /home/biocbuild/bbs-3.18-bioc/R/bin/R CMD check --install=check:easylift.install-out.txt --library=/home/biocbuild/bbs-3.18-bioc/R/site-library --timings easylift_1.0.0.tar.gz StartedAt: 2024-04-15 22:22:26 -0400 (Mon, 15 Apr 2024) EndedAt: 2024-04-15 22:26:45 -0400 (Mon, 15 Apr 2024) EllapsedTime: 259.3 seconds RetCode: 0 Status: OK CheckDir: easylift.Rcheck Warnings: 0